BEGIN:VCALENDAR
VERSION:2.0
PRODID:icalendar-ruby
CALSCALE:GREGORIAN
METHOD:PUBLISH
BEGIN:VEVENT
DTSTAMP:20260421T112453Z
UID:5-739862@minetto.org
DTSTART:20261025T140000Z
DTEND:20261025T150000Z
CLASS:PUBLIC
CREATED:20260420T205245
DESCRIPTION:Sunday Worship
LAST-MODIFIED:20260420T205245
LOCATION:
SUMMARY:Sunday Worship
URL;VALUE=URI:https://minetto.org/events/sunday-worship/2026-10-25
END:VEVENT
END:VCALENDAR
