BEGIN:VCALENDAR
VERSION:2.0
PRODID:icalendar-ruby
CALSCALE:GREGORIAN
METHOD:PUBLISH
BEGIN:VEVENT
DTSTAMP:20260425T114755Z
UID:8-754842@minetto.org
DTSTART:20261103T150000Z
DTEND:20261103T160000Z
CLASS:PUBLIC
CREATED:20260424T221842
DESCRIPTION:
LAST-MODIFIED:20260424T221842
LOCATION:Fellowship Hall
SUMMARY:Osteo Exercise Class
URL;VALUE=URI:https://minetto.org/events/osteo-exercise-class/2026-11-03
END:VEVENT
END:VCALENDAR
