BEGIN:VCALENDAR
VERSION:2.0
PRODID:icalendar-ruby
CALSCALE:GREGORIAN
METHOD:PUBLISH
BEGIN:VEVENT
DTSTAMP:20260423T051834Z
UID:8-747389@minetto.org
DTSTART:20260922T140000Z
DTEND:20260922T150000Z
CLASS:PUBLIC
CREATED:20260422T224404
DESCRIPTION:
LAST-MODIFIED:20260422T224404
LOCATION:Fellowship Hall
SUMMARY:Osteo Exercise Class
URL;VALUE=URI:https://minetto.org/events/osteo-exercise-class/2026-09-22
END:VEVENT
END:VCALENDAR
