BEGIN:VCALENDAR
VERSION:2.0
PRODID:icalendar-ruby
CALSCALE:GREGORIAN
METHOD:PUBLISH
BEGIN:VEVENT
DTSTAMP:20260425T000121Z
UID:9-754327@minetto.org
DTSTART:20261105T150000Z
DTEND:20261105T160000Z
CLASS:PUBLIC
CREATED:20260424T192924
DESCRIPTION:
LAST-MODIFIED:20260424T192924
LOCATION:Fellowship Hall
SUMMARY:Osteo Exercise Class
URL;VALUE=URI:https://minetto.org/events/osteo-exercise-class--9/2026-11-05
END:VEVENT
END:VCALENDAR
