BEGIN:VCALENDAR
VERSION:2.0
PRODID:icalendar-ruby
CALSCALE:GREGORIAN
METHOD:PUBLISH
BEGIN:VEVENT
DTSTAMP:20260424T210428Z
UID:9-753704@minetto.org
DTSTART:20261022T140000Z
DTEND:20261022T150000Z
CLASS:PUBLIC
CREATED:20260424T164131
DESCRIPTION:
LAST-MODIFIED:20260424T164131
LOCATION:Fellowship Hall
SUMMARY:Osteo Exercise Class
URL;VALUE=URI:https://minetto.org/events/osteo-exercise-class--9/2026-10-22
END:VEVENT
END:VCALENDAR
