BEGIN:VCALENDAR
VERSION:2.0
PRODID:icalendar-ruby
CALSCALE:GREGORIAN
METHOD:PUBLISH
BEGIN:VEVENT
DTSTAMP:20260424T192615Z
UID:9-753082@minetto.org
DTSTART:20261015T140000Z
DTEND:20261015T150000Z
CLASS:PUBLIC
CREATED:20260424T135406
DESCRIPTION:
LAST-MODIFIED:20260424T135406
LOCATION:Fellowship Hall
SUMMARY:Osteo Exercise Class
URL;VALUE=URI:https://minetto.org/events/osteo-exercise-class--9/2026-10-15
END:VEVENT
END:VCALENDAR
