BEGIN:VCALENDAR
VERSION:2.0
PRODID:icalendar-ruby
CALSCALE:GREGORIAN
METHOD:PUBLISH
BEGIN:VEVENT
DTSTAMP:20260424T160541Z
UID:9-752459@minetto.org
DTSTART:20261001T140000Z
DTEND:20261001T150000Z
CLASS:PUBLIC
CREATED:20260424T110728
DESCRIPTION:
LAST-MODIFIED:20260424T110728
LOCATION:Fellowship Hall
SUMMARY:Osteo Exercise Class
URL;VALUE=URI:https://minetto.org/events/osteo-exercise-class--9/2026-10-01
END:VEVENT
END:VCALENDAR
