BEGIN:VCALENDAR
VERSION:2.0
PRODID:icalendar-ruby
CALSCALE:GREGORIAN
METHOD:PUBLISH
BEGIN:VEVENT
DTSTAMP:20260424T142508Z
UID:9-751837@minetto.org
DTSTART:20260924T140000Z
DTEND:20260924T150000Z
CLASS:PUBLIC
CREATED:20260424T081437
DESCRIPTION:
LAST-MODIFIED:20260424T081437
LOCATION:Fellowship Hall
SUMMARY:Osteo Exercise Class
URL;VALUE=URI:https://minetto.org/events/osteo-exercise-class--9/2026-09-24
END:VEVENT
END:VCALENDAR
